BEGIN:VCALENDAR
VERSION:2.0
PRODID:-//jEvents 2.0 for Joomla//EN
CALSCALE:GREGORIAN
METHOD:PUBLISH
BEGIN:VTIMEZONE
TZID:Asia/Kuala_Lumpur
BEGIN:STANDARD
DTSTART:20151026T080000
RDATE:20380119T111407
TZOFFSETFROM:+0800
TZOFFSETTO:+0800
TZNAME:Asia/Kuala_Lumpur +08
END:STANDARD
END:VTIMEZONE
BEGIN:VEVENT
UID:ba016695a9db23eb2dd846b47f057619
CATEGORIES:Oil & Gas
SUMMARY:Gas Asia Summit 2016
LOCATION:Marina Bay Sands | Singapore
DESCRIPTION;ENCODING=QUOTED-PRINTABLE:\n\nThe Gas Asia Summit & Exhibition (GAS 2016) takes place from 26th to 28
 th October 2016 as part of the Singapore International Energy Week (SIEW). 
 Powered by Gastech and incorporating the annual Asia Pacific Small and Mid-
 Scale LNG Forum, this strategic amalgamation of events provides a comprehen
 sive outlook of the commercial and technical value chain in today’s dynamic
  Asian market.\nWith the support of our Executive Committee, previous deleg
 ates, exhibitors and stakeholders across Asia and beyond, GAS 2016 promises
  many exciting new features and participation opportunities. The event is e
 xpecting attendance from 2,000 international, regional and local investors 
 looking to do business in and around the region.\n
CONTACT: FREE MAP DISTRIBUTION
DTSTAMP:20260421T113210Z
DTSTART;TZID=Asia/Kuala_Lumpur:20161026T080000
DTEND;TZID=Asia/Kuala_Lumpur:20161028T170000
SEQUENCE:0
TRANSP:OPAQUE
END:VEVENT
END:VCALENDAR