BEGIN:VCALENDAR
VERSION:2.0
PRODID:-//jEvents 2.0 for Joomla//EN
CALSCALE:GREGORIAN
METHOD:PUBLISH
BEGIN:VTIMEZONE
TZID:Asia/Kuala_Lumpur
BEGIN:STANDARD
DTSTART:20150523T080000
RDATE:20380119T111407
TZOFFSETFROM:+0800
TZOFFSETTO:+0800
TZNAME:Asia/Kuala_Lumpur +08
END:STANDARD
END:VTIMEZONE
BEGIN:VEVENT
UID:82a9aeffdc33f70bc725dc4e6071bc02
CATEGORIES:Oil & Gas
SUMMARY:Women In Industry Forum 2016
DESCRIPTION;ENCODING=QUOTED-PRINTABLE:\n\n\n
DTSTAMP:20260421T113301Z
DTSTART;TZID=Asia/Kuala_Lumpur:20160523T080000
DTEND;TZID=Asia/Kuala_Lumpur:20160524T170000
SEQUENCE:0
TRANSP:OPAQUE
END:VEVENT
END:VCALENDAR