BEGIN:VCALENDAR
VERSION:2.0
PRODID:-//jEvents 2.0 for Joomla//EN
CALSCALE:GREGORIAN
METHOD:PUBLISH
BEGIN:VTIMEZONE
TZID:Asia/Kuala_Lumpur
BEGIN:STANDARD
DTSTART:20150517T080000
RDATE:20380119T111407
TZOFFSETFROM:+0800
TZOFFSETTO:+0800
TZNAME:Asia/Kuala_Lumpur +08
END:STANDARD
END:VTIMEZONE
BEGIN:VEVENT
UID:3272f4716fb1df69b7a75d6d324ad8a4
CATEGORIES:Oil & Gas
SUMMARY:Offshore Arabia 2016
DESCRIPTION;ENCODING=QUOTED-PRINTABLE:
DTSTAMP:20260421T113324Z
DTSTART;TZID=Asia/Kuala_Lumpur:20160517T080000
DTEND;TZID=Asia/Kuala_Lumpur:20160518T170000
SEQUENCE:0
TRANSP:OPAQUE
END:VEVENT
END:VCALENDAR