BEGIN:VCALENDAR
VERSION:2.0
PRODID:-//jEvents 2.0 for Joomla//EN
CALSCALE:GREGORIAN
METHOD:PUBLISH
BEGIN:VTIMEZONE
TZID:Asia/Kuala_Lumpur
BEGIN:STANDARD
DTSTART:20130109T000000
RDATE:20380119T111407
TZOFFSETFROM:+0800
TZOFFSETTO:+0800
TZNAME:Asia/Kuala_Lumpur +08
END:STANDARD
END:VTIMEZONE
BEGIN:VEVENT
UID:d222f2e4bdf663263ad3256ff368ba96
CATEGORIES:Oil & Gas
SUMMARY:4th India Unconventional Gas Forum (IUGF) 2014
LOCATION:New Delhi, India
DESCRIPTION;ENCODING=QUOTED-PRINTABLE:\n\n\n        4th India Unconventional Gas Forum         A bridge to a sust
 ainable future energy mixThe share of gas in the basket of different types 
 of primary energy produced around the world is growing. This is largely due
  to new developments and exploitation of shale and tight gas from untapped 
 reservoirs around the world. The growing need for clean fuel is driving maj
 or fast growing economies such as China and India to invest in increased ex
 ploration of natural gas. The economical price of gas is making it a more c
 ompetitive source of power than oil and renewable energy such as wind and s
 olar power.\n\n
X-EXTRAINFO:ORGANIZER: Austral Asian Maritime Group
DTSTAMP:20260421T143646Z
DTSTART;TZID=Asia/Kuala_Lumpur;VALUE=DATE:20140110
DTEND;TZID=Asia/Kuala_Lumpur;VALUE=DATE:20140111
SEQUENCE:0
TRANSP:OPAQUE
END:VEVENT
END:VCALENDAR