BEGIN:VCALENDAR
VERSION:2.0
PRODID:-//jEvents 2.0 for Joomla//EN
CALSCALE:GREGORIAN
METHOD:PUBLISH
BEGIN:VTIMEZONE
TZID:Asia/Kuala_Lumpur
BEGIN:STANDARD
DTSTART:20150530T080000
RDATE:20380119T111407
TZOFFSETFROM:+0800
TZOFFSETTO:+0800
TZNAME:Asia/Kuala_Lumpur +08
END:STANDARD
END:VTIMEZONE
BEGIN:VEVENT
UID:2241b4d4328586e9d0f8efb421eeaf66
CATEGORIES:Oil & Gas
SUMMARY:World Gas Conference & Exhibition Russia 2016 
LOCATION:Moscow, Russia.
DESCRIPTION;ENCODING=QUOTED-PRINTABLE:\n\nWorld Gas Conference & Exhibition Russia 2016 is the best platform to h
 elp Russia gas authorities and operators solve challenges in gas industry d
 evelopment & Pipeline & LNG projects.\n\n\nalso a good opportunity for serv
 ice and technology providers to show their technical competitive edge to he
 lp the local stakeholders developing gas to Pipeline and LNG strategies.\nT
 his annual Conference will bring more players to Russia Market, estimating 
 around 200 industry professionals participating. It will act as the best br
 idge for foreigners to network with the local GOVs & key stakeholders and m
 ore clearly & exactly grasp the updated information about the regulations, 
 Pipeline & LNG projects, planning & Long-term strategies. Besides, the spec
 ial session” Asia gas buyers’ perspectives” will help us to evaluate the po
 tential of Russia new strategies to expand Asia market, as well as“ the int
 ernational projects case studies” will help Russia players to enrich their 
 technical knowledge read more\n\n\n
DTSTAMP:20260421T130348Z
DTSTART;TZID=Asia/Kuala_Lumpur:20160530T080000
DTEND;TZID=Asia/Kuala_Lumpur:20160531T170000
SEQUENCE:0
TRANSP:OPAQUE
END:VEVENT
END:VCALENDAR