BEGIN:VCALENDAR
VERSION:2.0
PRODID:-//jEvents 2.0 for Joomla//EN
CALSCALE:GREGORIAN
METHOD:PUBLISH
BEGIN:VTIMEZONE
TZID:Asia/Kuala_Lumpur
BEGIN:STANDARD
DTSTART:20150120T080000
RDATE:20380119T111407
TZOFFSETFROM:+0800
TZOFFSETTO:+0800
TZNAME:Asia/Kuala_Lumpur +08
END:STANDARD
END:VTIMEZONE
BEGIN:VEVENT
UID:129c9039a0682734eee09daeecf73659
CATEGORIES:Oil & Gas
SUMMARY:World Gas Congress Africa 2016
LOCATION:Maputo, Mozambique
DESCRIPTION;ENCODING=QUOTED-PRINTABLE:\n\n\nWorld Gas Congress Africa 2016,co-located with 2ndDeepwater East &Sou
 thern Africa 2016, is the best platform to help Africa gas authorities and 
 operators solve challenges in gas industry development & gasto power & LNG 
 projects.\nBack by popular demand, the WGC, Africa2016 will have more than 
 300 professionals within gas industry around theworld, and providing a valu
 able opportunity for foreigners to network with the local key stakeholders 
 and moreclearly & exactly grasp the updated information about the regulatio
 ns, LNG/FLNG projects and strategies from industryexperts. And the special 
 Emerging Country Day will introduce you the gas development potential and p
 lanning ofemerging countries in Africa, which will help you to decide futur
 e investment directions ahead. For more information, Please view \n
DTSTAMP:20260421T123457Z
DTSTART;TZID=Asia/Kuala_Lumpur:20160121T080000
DTEND;TZID=Asia/Kuala_Lumpur:20160122T170000
SEQUENCE:0
TRANSP:OPAQUE
END:VEVENT
END:VCALENDAR