BEGIN:VCALENDAR
VERSION:2.0
PRODID:-//jEvents 2.0 for Joomla//EN
CALSCALE:GREGORIAN
METHOD:PUBLISH
BEGIN:VTIMEZONE
TZID:Asia/Kuala_Lumpur
BEGIN:STANDARD
DTSTART:20151205T080000
RDATE:20380119T111407
TZOFFSETFROM:+0800
TZOFFSETTO:+0800
TZNAME:Asia/Kuala_Lumpur +08
END:STANDARD
END:VTIMEZONE
BEGIN:VEVENT
UID:7759c0ec2d010f836f11a74002f3e656
CATEGORIES:Oil & Gas
SUMMARY:Petrotech 2016
LOCATION:New Delhi, India
DESCRIPTION;ENCODING=QUOTED-PRINTABLE:
X-EXTRAINFO:www.petrotech.in
DTSTAMP:20260421T113326Z
DTSTART;TZID=Asia/Kuala_Lumpur:20161205T080000
DTEND;TZID=Asia/Kuala_Lumpur:20161207T170000
SEQUENCE:0
TRANSP:OPAQUE
END:VEVENT
END:VCALENDAR