BEGIN:VCALENDAR
VERSION:2.0
PRODID:-//jEvents 2.0 for Joomla//EN
CALSCALE:GREGORIAN
METHOD:PUBLISH
BEGIN:VTIMEZONE
TZID:Asia/Kuala_Lumpur
BEGIN:STANDARD
DTSTART:20130922T000000
RDATE:20380119T111407
TZOFFSETFROM:+0800
TZOFFSETTO:+0800
TZNAME:Asia/Kuala_Lumpur +08
END:STANDARD
END:VTIMEZONE
BEGIN:VEVENT
UID:47e6fd59816ce7b9f102b62d671ae03e
CATEGORIES:Oil & Gas
SUMMARY:MOGSEC 2014 
LOCATION:Kuala Lumpur Convention Centre, Malaysia
DESCRIPTION;ENCODING=QUOTED-PRINTABLE: The current growth witnessed in Malaysia’s oil and gas industry holds much
  promise for the domestic oil & gas service Companies. PETRONAS, as custodi
 an of Malaysia's petroleum resources will continue to play a leading role i
 n accelerating the development of our nation's oil and gas resources whilst
  paving the way for home grown capabilities and expertise.At the same time,
  we must recognize that the oil and gas industry is technically challenging
  and capital intensive; and it may not suit the faint hearted. While PETRON
 AS will continue to provide stewardship and opportunities, these will be me
 t by service providers who are able to continuously enhance their capabilit
 ies, innovate and remain competitive.
CONTACT:FREE MAP DISTRIBUTION
X-EXTRAINFO:Supported by: PETRONAS
DTSTAMP:20260421T143029Z
DTSTART;TZID=Asia/Kuala_Lumpur;VALUE=DATE:20140923
DTEND;TZID=Asia/Kuala_Lumpur;VALUE=DATE:20140926
SEQUENCE:0
TRANSP:OPAQUE
END:VEVENT
END:VCALENDAR