BEGIN:VCALENDAR
VERSION:2.0
PRODID:-//jEvents 2.0 for Joomla//EN
CALSCALE:GREGORIAN
METHOD:PUBLISH
BEGIN:VTIMEZONE
TZID:Asia/Kuala_Lumpur
BEGIN:STANDARD
DTSTART:20151107T080000
RDATE:20380119T111407
TZOFFSETFROM:+0800
TZOFFSETTO:+0800
TZNAME:Asia/Kuala_Lumpur +08
END:STANDARD
END:VTIMEZONE
BEGIN:VEVENT
UID:9443765b588be71ce2b12ffa152f7bb4
CATEGORIES:Oil & Gas
SUMMARY:ADIPEC 2016
LOCATION:Abu Dhabi, UAE
DESCRIPTION;ENCODING=QUOTED-PRINTABLE:\n\nWith a record of 94,661 attendees in 2015, the Abu Dhabi International 
 Petroleum Exhibition & Conference is firmly established as one of the world
 ’s elite Oil & Gas events. ADIPEC 2016 is projected to attract some 100,000
  trade professionals and 2,300 exhibitors from 135 countries – and with the
  addition of a new feature, Security in Energy – ADIPEC is set to become th
 e definitive industry showcase. With low operating costs and maximum margin
 s, the Middle East provides unrivalled investment opportunities for NOCs, I
 OCs, Service Companies and Specialist Technology suppliers when compared to
  other regions\n
CONTACT:FREE MAP DISTRIBUTION 
X-EXTRAINFO:http://www.adipec.com/
DTSTAMP:20260421T112940Z
DTSTART;TZID=Asia/Kuala_Lumpur:20161107T080000
DTEND;TZID=Asia/Kuala_Lumpur:20161110T170000
SEQUENCE:0
TRANSP:OPAQUE
END:VEVENT
END:VCALENDAR