BEGIN:VCALENDAR
VERSION:2.0
PRODID:-//jEvents 2.0 for Joomla//EN
CALSCALE:GREGORIAN
METHOD:PUBLISH
BEGIN:VTIMEZONE
TZID:Asia/Kuala_Lumpur
BEGIN:STANDARD
DTSTART:20150928T080000
RDATE:20380119T111407
TZOFFSETFROM:+0800
TZOFFSETTO:+0800
TZNAME:Asia/Kuala_Lumpur +08
END:STANDARD
END:VTIMEZONE
BEGIN:VEVENT
UID:0f0f93c3e061af8254b0cfaff763861e
CATEGORIES:Oil & Gas
SUMMARY:OIL & GAS TIMOR LESTE EXPO (OTIM) 2016
LOCATION:Timor Leste, Dili
DESCRIPTION;ENCODING=QUOTED-PRINTABLE:
X-EXTRAINFO:http://www.oilgastimorleste.com/
DTSTAMP:20260421T112931Z
DTSTART;TZID=Asia/Kuala_Lumpur:20160928T080000
DTEND;TZID=Asia/Kuala_Lumpur:20160929T170000
SEQUENCE:0
TRANSP:OPAQUE
END:VEVENT
END:VCALENDAR