BEGIN:VCALENDAR
VERSION:2.0
PRODID:-//jEvents 2.0 for Joomla//EN
CALSCALE:GREGORIAN
METHOD:PUBLISH
BEGIN:VTIMEZONE
TZID:Asia/Kuala_Lumpur
BEGIN:STANDARD
DTSTART:20150927T080000
RDATE:20380119T111407
TZOFFSETFROM:+0800
TZOFFSETTO:+0800
TZNAME:Asia/Kuala_Lumpur +08
END:STANDARD
END:VTIMEZONE
BEGIN:VEVENT
UID:316c514ae16d425a9bf341352795d8e5
CATEGORIES:Oil & Gas
SUMMARY:Tank Storage Asia 2016
LOCATION:Singapore, MBS
DESCRIPTION;ENCODING=QUOTED-PRINTABLE:\n\n\n
CONTACT:FREE MAP DISTRIBUTION
X-EXTRAINFO:www.tankstorageasia.com
DTSTAMP:20260421T143435Z
DTSTART;TZID=Asia/Kuala_Lumpur:20160927T080000
DTEND;TZID=Asia/Kuala_Lumpur:20160928T170000
SEQUENCE:0
TRANSP:OPAQUE
END:VEVENT
END:VCALENDAR