BEGIN:VCALENDAR
VERSION:2.0
PRODID:-//jEvents 2.0 for Joomla//EN
CALSCALE:GREGORIAN
METHOD:PUBLISH
BEGIN:VTIMEZONE
TZID:Asia/Kuala_Lumpur
BEGIN:STANDARD
DTSTART:20150921T080000
RDATE:20380119T111407
TZOFFSETFROM:+0800
TZOFFSETTO:+0800
TZNAME:Asia/Kuala_Lumpur +08
END:STANDARD
END:VTIMEZONE
BEGIN:VEVENT
UID:7fbd2005b08525f96ab773f42cb99a6a
CATEGORIES:Oil & Gas
SUMMARY:GASEX 2016
LOCATION:Beijing, China
DESCRIPTION;ENCODING=QUOTED-PRINTABLE:\n\nGASEX is a the bi-annual event for the the gas related bodies of the We
 stern Pacific region in Asia, taking place 21-23 September 2016 in Beijing.
 .The first GASEX event was formed in Tokyo in November 1990, the committee 
 now comprises of 15 international members. Attending GASEX2016 will constit
 ute the best possible opportunity for understanding and feeling Asian gas i
 ndustrial development and changes. As an internationalized metropolitan cit
 y, Beijing will provide all the friends with outstanding services. Its uniq
 ue vitality will enable the friends from all regions better appreciate Chin
 a’s hospitality and amity.\nEver since the first conference in 1990, this e
 vent has become one of the most important in the region for the search of b
 est practices in gas utilization, safety and reliability, high-efficiency o
 f gas technology; reduction of carbon emission to the environment and all o
 ther aspects related to the sector.\nWith key industry organizationsforming
  the 14th GASEX committee, the eventis on track to be the biggest yet, comp
 lete with over 400 exhibitors from throughout the gas value chain in attend
 ance for more info view\n
CONTACT:FREE MAP DISTRIBUTION
X-EXTRAINFO:www.gasex2016.org
DTSTAMP:20260421T123429Z
DTSTART;TZID=Asia/Kuala_Lumpur:20160921T080000
DTEND;TZID=Asia/Kuala_Lumpur:20160923T170000
SEQUENCE:0
TRANSP:OPAQUE
END:VEVENT
END:VCALENDAR