BEGIN:VCALENDAR
VERSION:2.0
PRODID:-//jEvents 2.0 for Joomla//EN
CALSCALE:GREGORIAN
METHOD:PUBLISH
BEGIN:VTIMEZONE
TZID:Asia/Kuala_Lumpur
BEGIN:STANDARD
DTSTART:20150829T080000
RDATE:20380119T111407
TZOFFSETFROM:+0800
TZOFFSETTO:+0800
TZNAME:Asia/Kuala_Lumpur +08
END:STANDARD
END:VTIMEZONE
BEGIN:VEVENT
UID:2549e250af7b16399e997c195dcdc06e
CATEGORIES:Oil & Gas
SUMMARY:ONS 2016
LOCATION:Stavanger, Norway
DESCRIPTION;ENCODING=QUOTED-PRINTABLE:
DTSTAMP:20260421T113203Z
DTSTART;TZID=Asia/Kuala_Lumpur:20160829T080000
DTEND;TZID=Asia/Kuala_Lumpur:20160901T170000
SEQUENCE:0
TRANSP:OPAQUE
END:VEVENT
END:VCALENDAR