BEGIN:VCALENDAR
VERSION:2.0
PRODID:-//jEvents 2.0 for Joomla//EN
CALSCALE:GREGORIAN
METHOD:PUBLISH
BEGIN:VTIMEZONE
TZID:Asia/Kuala_Lumpur
BEGIN:STANDARD
DTSTART:20150823T080000
RDATE:20380119T111407
TZOFFSETFROM:+0800
TZOFFSETTO:+0800
TZNAME:Asia/Kuala_Lumpur +08
END:STANDARD
END:VTIMEZONE
BEGIN:VEVENT
UID:a804efbc9b27a00871901eb8e9b0b0a7
CATEGORIES:Maritime 
SUMMARY:IMOX 2016
LOCATION:Batam, Indonesia
DESCRIPTION;ENCODING=QUOTED-PRINTABLE:
CONTACT:FREE MAP DISTRIBUTION
X-EXTRAINFO:http://www.batam-marine.com/
DTSTAMP:20260421T113323Z
DTSTART;TZID=Asia/Kuala_Lumpur:20160823T080000
DTEND;TZID=Asia/Kuala_Lumpur:20160825T170000
SEQUENCE:0
TRANSP:OPAQUE
END:VEVENT
END:VCALENDAR