BEGIN:VCALENDAR
VERSION:2.0
PRODID:-//jEvents 2.0 for Joomla//EN
CALSCALE:GREGORIAN
METHOD:PUBLISH
BEGIN:VTIMEZONE
TZID:Asia/Kuala_Lumpur
BEGIN:STANDARD
DTSTART:20150811T080000
RDATE:20380119T111407
TZOFFSETFROM:+0800
TZOFFSETTO:+0800
TZNAME:Asia/Kuala_Lumpur +08
END:STANDARD
END:VTIMEZONE
BEGIN:VEVENT
UID:f33a7390312645143479df30a55f4c78
CATEGORIES:Oil & Gas
SUMMARY:The 12th Balikpapan Expo 2016
LOCATION:Borneo Festival Centre Manggar Beach, Balikpapan, East Kalimantan
DESCRIPTION;ENCODING=QUOTED-PRINTABLE:
X-EXTRAINFO:www.sinarexpoprima.com
DTSTAMP:20260421T113324Z
DTSTART;TZID=Asia/Kuala_Lumpur:20160811T080000
DTEND;TZID=Asia/Kuala_Lumpur:20160813T170000
SEQUENCE:0
TRANSP:OPAQUE
END:VEVENT
END:VCALENDAR