BEGIN:VCALENDAR
VERSION:2.0
PRODID:-//jEvents 2.0 for Joomla//EN
CALSCALE:GREGORIAN
METHOD:PUBLISH
BEGIN:VTIMEZONE
TZID:Asia/Kuala_Lumpur
BEGIN:STANDARD
DTSTART:20130901T000000
RDATE:20380119T111407
TZOFFSETFROM:+0800
TZOFFSETTO:+0800
TZNAME:Asia/Kuala_Lumpur +08
END:STANDARD
END:VTIMEZONE
BEGIN:VEVENT
UID:76c320cb04b765fee8f8acedb9047c0e
CATEGORIES:Oil & Gas
SUMMARY:Oil & Gas Thailand 2014 and Petrochemical 2014
LOCATION:Hall 102 Bitec Bangna, Bangkok, Thailand
DESCRIPTION;ENCODING=QUOTED-PRINTABLE: The only specialized oil & gas and petrochemical events in Thailand that b
 rings together an international congregation of both upstream and downstrea
 m oil and gas and petrochemical companies and also its supporting industrie
 s gathered in the capital city of Bangkok, Thailand to showcase the latest 
 technology and developments in the oil and gas and petrochemical industry. 
 More than 3,000 process and Oil & Gas safety personnel attended the Oil & G
 as Thailand (OGET) and Petrochemical Asia 2014 Exhibition and Conference in
  Bangkok on 2-4 September 2014. This event was organized by Fireworks Media
  (Thailand) Co., Ltd. in a bid to reach out to more key people in Thailand.
X-EXTRAINFO:ORGANIZER: Fireworks Media (Thailand) Co., Ltd.
DTSTAMP:20260421T143818Z
DTSTART;TZID=Asia/Kuala_Lumpur;VALUE=DATE:20140902
DTEND;TZID=Asia/Kuala_Lumpur;VALUE=DATE:20140905
SEQUENCE:0
TRANSP:OPAQUE
END:VEVENT
END:VCALENDAR