BEGIN:VCALENDAR
VERSION:2.0
PRODID:-//jEvents 2.0 for Joomla//EN
CALSCALE:GREGORIAN
METHOD:PUBLISH
BEGIN:VTIMEZONE
TZID:Asia/Kuala_Lumpur
BEGIN:STANDARD
DTSTART:20150619T080000
RDATE:20380119T111407
TZOFFSETFROM:+0800
TZOFFSETTO:+0800
TZNAME:Asia/Kuala_Lumpur +08
END:STANDARD
END:VTIMEZONE
BEGIN:VEVENT
UID:d66b63805770659108b86a41530f5704
CATEGORIES:Oil & Gas
SUMMARY:POGEE 2016
LOCATION:Lahore, Pakistan
DESCRIPTION;ENCODING=QUOTED-PRINTABLE:\n\n\n\n\n“Oil & Gas Pakistan has become a significant industry event, over
  the 13 years. The success of the show and the investment potential in Paki
 stan’s energy sector can be ascertained by the growth in the number of exhi
 biting companies from around the world. Continuing its legacy, POGEE 2016 w
 ill take place at Lahore Expo Centre, Pakistan schedule from 19-21 May 2016
  and will again bring together industry professionals from across the globe
  to an exclusive platform with top level networking opportunities.\n\n\nThe
  International Conference for the Oil, Gas & Energy industry is another pro
 minent feature of this exhibition which provides valuable knowledge to its 
 participants as well as enhanced networking opportunities.”\n
X-EXTRAINFO:http://www.pogeepakistan.com
DTSTAMP:20260421T190239Z
DTSTART;TZID=Asia/Kuala_Lumpur:20160619T080000
DTEND;TZID=Asia/Kuala_Lumpur:20160621T170000
SEQUENCE:0
TRANSP:OPAQUE
END:VEVENT
END:VCALENDAR