BEGIN:VCALENDAR
VERSION:2.0
PRODID:-//jEvents 2.0 for Joomla//EN
CALSCALE:GREGORIAN
METHOD:PUBLISH
BEGIN:VTIMEZONE
TZID:Asia/Kuala_Lumpur
BEGIN:STANDARD
DTSTART:20150606T080000
RDATE:20380119T111407
TZOFFSETFROM:+0800
TZOFFSETTO:+0800
TZNAME:Asia/Kuala_Lumpur +08
END:STANDARD
END:VTIMEZONE
BEGIN:VEVENT
UID:bc8fcdffd730fb7568bcfd59bef2da41
CATEGORIES:Maritime 
SUMMARY:Philmarine 2016
LOCATION:Manila, Philippines
DESCRIPTION;ENCODING=QUOTED-PRINTABLE:
DTSTAMP:20260421T143206Z
DTSTART;TZID=Asia/Kuala_Lumpur:20160606T080000
DTEND;TZID=Asia/Kuala_Lumpur:20160608T170000
SEQUENCE:0
TRANSP:OPAQUE
END:VEVENT
END:VCALENDAR