BEGIN:VCALENDAR
VERSION:2.0
PRODID:-//jEvents 2.0 for Joomla//EN
CALSCALE:GREGORIAN
METHOD:PUBLISH
BEGIN:VTIMEZONE
TZID:Asia/Kuala_Lumpur
BEGIN:STANDARD
DTSTART:20150420T080000
RDATE:20380119T111407
TZOFFSETFROM:+0800
TZOFFSETTO:+0800
TZNAME:Asia/Kuala_Lumpur +08
END:STANDARD
END:VTIMEZONE
BEGIN:VEVENT
UID:edc5d3f112980890440c09d7cf31eee3
CATEGORIES:Oil & Gas
SUMMARY:5th Erbil Oil & gas 2016
LOCATION:Erbil, Iraq
DESCRIPTION;ENCODING=QUOTED-PRINTABLE:
X-EXTRAINFO:www.erbiloilgas.com
DTSTAMP:20260421T113201Z
DTSTART;TZID=Asia/Kuala_Lumpur:20160420T080000
DTEND;TZID=Asia/Kuala_Lumpur:20160423T170000
SEQUENCE:0
TRANSP:OPAQUE
END:VEVENT
END:VCALENDAR