BEGIN:VCALENDAR
VERSION:2.0
PRODID:-//jEvents 2.0 for Joomla//EN
CALSCALE:GREGORIAN
METHOD:PUBLISH
BEGIN:VTIMEZONE
TZID:Asia/Kuala_Lumpur
BEGIN:STANDARD
DTSTART:20150412T080000
RDATE:20380119T111407
TZOFFSETFROM:+0800
TZOFFSETTO:+0800
TZNAME:Asia/Kuala_Lumpur +08
END:STANDARD
END:VTIMEZONE
BEGIN:VEVENT
UID:ec75dda851c7b17177f9f9ed33586ee6
CATEGORIES:Oil & Gas
SUMMARY:TANK WORLD EXPO 2016
LOCATION:Dubai World Trade Centre 
DESCRIPTION;ENCODING=QUOTED-PRINTABLE:\n\n\nTank World Expo is the largest tank storage event for the Middle East
  and African markets and is held at the Dubai World Trade Centre. The two d
 ay exhibition and conference attracts industry professionals from all over 
 the world, including technicians, terminal managers and engineers looking t
 o source the latest products and innovations in the tank storage industry.\
 nFor more information, visit www.tankworldexpo.com\n
CONTACT:FREE MAP DISTRIBUTION
DTSTAMP:20260421T143809Z
DTSTART;TZID=Asia/Kuala_Lumpur:20160412T080000
DTEND;TZID=Asia/Kuala_Lumpur:20160413T170000
SEQUENCE:0
TRANSP:OPAQUE
END:VEVENT
END:VCALENDAR