BEGIN:VCALENDAR
VERSION:2.0
PRODID:-//jEvents 2.0 for Joomla//EN
CALSCALE:GREGORIAN
METHOD:PUBLISH
BEGIN:VTIMEZONE
TZID:Asia/Kuala_Lumpur
BEGIN:STANDARD
DTSTART:20150322T080000
RDATE:20380119T111407
TZOFFSETFROM:+0800
TZOFFSETTO:+0800
TZNAME:Asia/Kuala_Lumpur +08
END:STANDARD
END:VTIMEZONE
BEGIN:VEVENT
UID:5927bfa77393fe6a1665986888db7a6a
CATEGORIES:Oil & Gas
SUMMARY:OTC Asia 2016
LOCATION:KLCC MALAYSIA
DESCRIPTION;ENCODING=QUOTED-PRINTABLE:
CONTACT:FREE MAP DISTRIBUTION
X-EXTRAINFO:http://2016.otcasia.org/
DTSTAMP:20260421T113326Z
DTSTART;TZID=Asia/Kuala_Lumpur:20160322T080000
DTEND;TZID=Asia/Kuala_Lumpur:20160325T170000
SEQUENCE:0
TRANSP:OPAQUE
END:VEVENT
END:VCALENDAR