BEGIN:VCALENDAR
VERSION:2.0
PRODID:-//jEvents 2.0 for Joomla//EN
CALSCALE:GREGORIAN
METHOD:PUBLISH
BEGIN:VTIMEZONE
TZID:Asia/Kuala_Lumpur
BEGIN:STANDARD
DTSTART:20150316T080000
RDATE:20380119T111407
TZOFFSETFROM:+0800
TZOFFSETTO:+0800
TZNAME:Asia/Kuala_Lumpur +08
END:STANDARD
END:VTIMEZONE
BEGIN:VEVENT
UID:830f5a9ec7c71e20a7e877d0c47dbfa7
CATEGORIES:Maritime 
SUMMARY:APM 2016
LOCATION:Singapore
DESCRIPTION;ENCODING=QUOTED-PRINTABLE:
DTSTAMP:20260421T112921Z
DTSTART;TZID=Asia/Kuala_Lumpur:20160316T080000
DTEND;TZID=Asia/Kuala_Lumpur:20160318T170000
SEQUENCE:0
TRANSP:OPAQUE
END:VEVENT
END:VCALENDAR