BEGIN:VCALENDAR
VERSION:2.0
PRODID:-//jEvents 2.0 for Joomla//EN
CALSCALE:GREGORIAN
METHOD:PUBLISH
BEGIN:VTIMEZONE
TZID:Asia/Kuala_Lumpur
BEGIN:STANDARD
DTSTART:20130708T000000
RDATE:20380119T111407
TZOFFSETFROM:+0800
TZOFFSETTO:+0800
TZNAME:Asia/Kuala_Lumpur +08
END:STANDARD
END:VTIMEZONE
BEGIN:VEVENT
UID:7f6c28cd92bfc00393928c1cfeb75663
CATEGORIES:Oil & Gas
SUMMARY:Oil & Gas Myanmar 2014
LOCATION:Tatmadaw Hall, Yangon, Myanmar
DESCRIPTION;ENCODING=QUOTED-PRINTABLE:      OIL & GAS MYANMAR 2014 and OFFSHOR           \n\nOil & Gas Myanmar 20
 14 is the only specialized oil & gas event in Myanmar that brings together 
 an international congregation of both upstream and downstream oil and gas c
 ompanies and also its supporting industries gathered in Yangon to showcase 
 the latest developments in the oil and gas industry.Fireworks Exhibitions a
 nd Conferences which have organized successful international Oil & Gas even
 ts such as ASEAN Oil & Gas Expo (AGEX), Malaysia, Indonesia Oil & Gas Expo 
 (IGEX), Oil & Gas Thailand (OGET), Oil and Gas Vietnam (OGAV) is the organi
 zer of this premier Oil and Gas event.\n
X-EXTRAINFO:ORGANIZER: Fireworks Myanmar
DTSTAMP:20260421T143819Z
DTSTART;TZID=Asia/Kuala_Lumpur;VALUE=DATE:20140709
DTEND;TZID=Asia/Kuala_Lumpur;VALUE=DATE:20140712
SEQUENCE:0
TRANSP:OPAQUE
END:VEVENT
END:VCALENDAR