BEGIN:VCALENDAR
VERSION:2.0
PRODID:-//jEvents 2.0 for Joomla//EN
CALSCALE:GREGORIAN
METHOD:PUBLISH
BEGIN:VTIMEZONE
TZID:Asia/Kuala_Lumpur
BEGIN:STANDARD
DTSTART:20150314T080000
RDATE:20380119T111407
TZOFFSETFROM:+0800
TZOFFSETTO:+0800
TZNAME:Asia/Kuala_Lumpur +08
END:STANDARD
END:VTIMEZONE
BEGIN:VEVENT
UID:e0083f6015b0703814ec98a84d225c89
CATEGORIES:Maritime 
SUMMARY:International LNG Congress 
LOCATION:Royal Garden Hotel in London 
DESCRIPTION;ENCODING=QUOTED-PRINTABLE:
CONTACT:FREE MAP DISTRIBUTION
X-EXTRAINFO:http://lngcongress.com/
DTSTAMP:20260421T113326Z
DTSTART;TZID=Asia/Kuala_Lumpur:20160314T080000
DTEND;TZID=Asia/Kuala_Lumpur:20160315T170000
SEQUENCE:0
TRANSP:OPAQUE
END:VEVENT
END:VCALENDAR