BEGIN:VCALENDAR
VERSION:2.0
PRODID:-//jEvents 2.0 for Joomla//EN
CALSCALE:GREGORIAN
METHOD:PUBLISH
BEGIN:VTIMEZONE
TZID:Asia/Kuala_Lumpur
BEGIN:STANDARD
DTSTART:20150223T080000
RDATE:20380119T111407
TZOFFSETFROM:+0800
TZOFFSETTO:+0800
TZNAME:Asia/Kuala_Lumpur +08
END:STANDARD
END:VTIMEZONE
BEGIN:VEVENT
UID:5abfcfa96ef862be9e9c0a460dd30d93
CATEGORIES:Oil & Gas
SUMMARY:AOG 2016
LOCATION:Perth, AU
DESCRIPTION;ENCODING=QUOTED-PRINTABLE:
CONTACT:FREE MAP DISTRIBUTION
X-EXTRAINFO:http://aogexpo.com.au/
DTSTAMP:20260421T113324Z
DTSTART;TZID=Asia/Kuala_Lumpur:20160224T080000
DTEND;TZID=Asia/Kuala_Lumpur:20160226T170000
SEQUENCE:0
TRANSP:OPAQUE
END:VEVENT
END:VCALENDAR