BEGIN:VCALENDAR
VERSION:2.0
PRODID:-//jEvents 2.0 for Joomla//EN
CALSCALE:GREGORIAN
METHOD:PUBLISH
BEGIN:VTIMEZONE
TZID:Asia/Kuala_Lumpur
BEGIN:STANDARD
DTSTART:20150222T080000
RDATE:20380119T111407
TZOFFSETFROM:+0800
TZOFFSETTO:+0800
TZNAME:Asia/Kuala_Lumpur +08
END:STANDARD
END:VTIMEZONE
BEGIN:VEVENT
UID:62f63a49e868dad74ac5a7809ca2f2e3
CATEGORIES:Oil & Gas
SUMMARY:the 3rd Power Southeast Asia Conference & Exhibition 2016
LOCATION:Jakarta
DESCRIPTION;ENCODING=QUOTED-PRINTABLE:
X-EXTRAINFO:http://powersea.org/
DTSTAMP:20260421T113304Z
DTSTART;TZID=Asia/Kuala_Lumpur:20160223T080000
DTEND;TZID=Asia/Kuala_Lumpur:20160224T170000
SEQUENCE:0
TRANSP:OPAQUE
END:VEVENT
END:VCALENDAR