BEGIN:VCALENDAR
VERSION:2.0
PRODID:-//jEvents 2.0 for Joomla//EN
CALSCALE:GREGORIAN
METHOD:PUBLISH
BEGIN:VTIMEZONE
TZID:Asia/Kuala_Lumpur
BEGIN:STANDARD
DTSTART:20150221T080000
RDATE:20380119T111407
TZOFFSETFROM:+0800
TZOFFSETTO:+0800
TZNAME:Asia/Kuala_Lumpur +08
END:STANDARD
END:VTIMEZONE
BEGIN:VEVENT
UID:9e365034231afd33314af0b3ac9a2c44
CATEGORIES:Oil & Gas
SUMMARY:Petro Environment 2016
LOCATION:SEEF Centre, Al Khobar, Eastern Province, Kingdom of Saudi Arabia
DESCRIPTION;ENCODING=QUOTED-PRINTABLE:
X-EXTRAINFO:http://www.petroenvironment.com/
DTSTAMP:20260421T113324Z
DTSTART;TZID=Asia/Kuala_Lumpur:20160222T080000
DTEND;TZID=Asia/Kuala_Lumpur:20160224T170000
SEQUENCE:0
TRANSP:OPAQUE
END:VEVENT
END:VCALENDAR