BEGIN:VCALENDAR
VERSION:2.0
PRODID:-//jEvents 2.0 for Joomla//EN
CALSCALE:GREGORIAN
METHOD:PUBLISH
BEGIN:VTIMEZONE
TZID:Asia/Kuala_Lumpur
BEGIN:STANDARD
DTSTART:20150202T080000
RDATE:20380119T111407
TZOFFSETFROM:+0800
TZOFFSETTO:+0800
TZNAME:Asia/Kuala_Lumpur +08
END:STANDARD
END:VTIMEZONE
BEGIN:VEVENT
UID:0bd9f50eb2b491075225a6d58fac61e0
CATEGORIES:Oil & Gas
SUMMARY:6th Basra Oil&Gas
LOCATION:Iraq
DESCRIPTION;ENCODING=QUOTED-PRINTABLE:
X-EXTRAINFO:www.basraoilgas.com
DTSTAMP:20260421T113111Z
DTSTART;TZID=Asia/Kuala_Lumpur:20160203T080000
DTEND;TZID=Asia/Kuala_Lumpur:20160206T170000
SEQUENCE:0
TRANSP:OPAQUE
END:VEVENT
END:VCALENDAR