BEGIN:VCALENDAR
VERSION:2.0
PRODID:-//jEvents 2.0 for Joomla//EN
CALSCALE:GREGORIAN
METHOD:PUBLISH
BEGIN:VTIMEZONE
TZID:Asia/Kuala_Lumpur
BEGIN:STANDARD
DTSTART:20150126T080000
RDATE:20380119T111407
TZOFFSETFROM:+0800
TZOFFSETTO:+0800
TZNAME:Asia/Kuala_Lumpur +08
END:STANDARD
END:VTIMEZONE
BEGIN:VEVENT
UID:98d0cbc6705f994763107b0c45767bf3
CATEGORIES:Oil & Gas
SUMMARY:Global Oil & Gas - MENA 2016
LOCATION:Cairo International,Convention Centre, Cairo, Egypt
DESCRIPTION;ENCODING=QUOTED-PRINTABLE:
X-EXTRAINFO:http://www.global-oilgas.com/mena
DTSTAMP:20260421T113217Z
DTSTART;TZID=Asia/Kuala_Lumpur:20160127T080000
DTEND;TZID=Asia/Kuala_Lumpur:20160129T170000
SEQUENCE:0
TRANSP:OPAQUE
END:VEVENT
END:VCALENDAR