BEGIN:VCALENDAR
VERSION:2.0
PRODID:-//jEvents 2.0 for Joomla//EN
CALSCALE:GREGORIAN
METHOD:PUBLISH
BEGIN:VTIMEZONE
TZID:Asia/Kuala_Lumpur
BEGIN:STANDARD
DTSTART:20150110T080000
RDATE:20380119T111407
TZOFFSETFROM:+0800
TZOFFSETTO:+0800
TZNAME:Asia/Kuala_Lumpur +08
END:STANDARD
END:VTIMEZONE
BEGIN:VEVENT
UID:50f8c180e084bad1753b5eb2622311b9
CATEGORIES:Oil & Gas
SUMMARY:Kish Enex 2016
LOCATION:Kish island, Iran
DESCRIPTION;ENCODING=QUOTED-PRINTABLE:
X-EXTRAINFO:http://www.kishenex.ir/en/
DTSTAMP:20260421T113324Z
DTSTART;TZID=Asia/Kuala_Lumpur:20160111T080000
DTEND;TZID=Asia/Kuala_Lumpur:20160114T170000
SEQUENCE:0
TRANSP:OPAQUE
END:VEVENT
END:VCALENDAR