BEGIN:VCALENDAR
VERSION:2.0
PRODID:-//jEvents 2.0 for Joomla//EN
CALSCALE:GREGORIAN
METHOD:PUBLISH
BEGIN:VTIMEZONE
TZID:Asia/Kuala_Lumpur
BEGIN:STANDARD
DTSTART:20150518T080000
RDATE:20380119T111407
TZOFFSETFROM:+0800
TZOFFSETTO:+0800
TZNAME:Asia/Kuala_Lumpur +08
END:STANDARD
END:VTIMEZONE
BEGIN:VEVENT
UID:39e7fd571372cf32ee7d6374d51ad765
CATEGORIES:Maritime 
SUMMARY:The 6th Edition of INAMARINE 2016 Jakarta
LOCATION:Jakarta International Expo (JIExpo) Kemayoran	 . Indonesia
DESCRIPTION;ENCODING=QUOTED-PRINTABLE:\n\nWelcome TO The 6th Edition of INAMARINE 2016 Jakarta\n\n\n\nThe resound
 ing success of INAMARINE 2015, held along with INACOATING 2015 and IIML (Th
 e Indonesia International Material Handling, Logistic & Warehousing Exhibit
 ion 2015), attracted 289 exhibiting companies from 15 countries, 13,978 tra
 de attendees from over 24 countries and occupied total area 12,000 sqm gros
 s, has further proved as the Indonesia’s largest trade show for marine engi
 neering & equipment, shipyards, shipbuilding and offshore. The Expo has bec
 ome the most influence marketplace to boost sales and gain exposure as well
  as meeting with key decision makers and potential buyers in maritime indus
 try.\nAs the most influential and comprehensive event, INAMARINE 2016 takin
 g place from 18 - 20 May 2016 at the Jakarta International Expo (JIExpo), J
 akarta – Indonesia will be expanded to be bigger and qualified networking p
 latform of the maritime industry to generate more qualified visitors and in
 ternational platform. INAMARINE 2016 will be co-locating with INAWELDING 20
 16, INACOATING 2016 and IIML 2016 (Material Handling and Logistic).  It wil
 l be notably serve as one of the world’s most prospective one-stop exhibiti
 on for suppliers and any shipyard, shipbuilding, offshore, port, welding, c
 oating and other related industries for more info\n
CONTACT:FREE MAP DISTRIBUTION
DTSTAMP:20260421T130025Z
DTSTART;TZID=Asia/Kuala_Lumpur:20160518T080000
DTEND;TZID=Asia/Kuala_Lumpur:20160520T170000
SEQUENCE:0
TRANSP:OPAQUE
END:VEVENT
END:VCALENDAR