BEGIN:VCALENDAR
VERSION:2.0
PRODID:-//jEvents 2.0 for Joomla//EN
CALSCALE:GREGORIAN
METHOD:PUBLISH
BEGIN:VTIMEZONE
TZID:Asia/Kuala_Lumpur
BEGIN:STANDARD
DTSTART:20130610T000000
RDATE:20380119T111407
TZOFFSETFROM:+0800
TZOFFSETTO:+0800
TZNAME:Asia/Kuala_Lumpur +08
END:STANDARD
END:VTIMEZONE
BEGIN:VEVENT
UID:57be1957d2416c4e61163c79910fc25b
CATEGORIES:Oil & Gas
SUMMARY:SUBSEA Asia 2014
LOCATION:KLCC, Malaysia
DESCRIPTION;ENCODING=QUOTED-PRINTABLE:             The SUBSEA Asia 2014 Exhibition                      \n\nAs de
 mand within the Malaysian Oil and Gas industry for deepwater exploration in
 creases, SUBSEA Asia cements its position as the leading sales platform for
  technology suppliers looking to capitalise in this expanding sector. SUBSE
 A Asia 2012 hosted 123 participating companies from 17 countries including 
 Australia, India, Malaysia, Singapore, the UK and the USA, hence reinforcin
 g the exhibition's importance in this vital section of Malaysia's Oil and G
 as Industry.\n
CONTACT:FREE MAP DISTRIBUTION
X-EXTRAINFO:ORGANIZER: MES
DTSTAMP:20260421T143819Z
DTSTART;TZID=Asia/Kuala_Lumpur;VALUE=DATE:20140611
DTEND;TZID=Asia/Kuala_Lumpur;VALUE=DATE:20140614
SEQUENCE:0
TRANSP:OPAQUE
END:VEVENT
END:VCALENDAR