BEGIN:VCALENDAR
VERSION:2.0
PRODID:-//jEvents 2.0 for Joomla//EN
CALSCALE:GREGORIAN
METHOD:PUBLISH
BEGIN:VTIMEZONE
TZID:Asia/Kuala_Lumpur
BEGIN:STANDARD
DTSTART:20140930T080000
RDATE:20380119T111407
TZOFFSETFROM:+0800
TZOFFSETTO:+0800
TZNAME:Asia/Kuala_Lumpur +08
END:STANDARD
END:VTIMEZONE
BEGIN:VEVENT
UID:081a135d5c2182615a284c6bd9189091
CATEGORIES:Maritime 
SUMMARY:The 3rd Edition of INAMARINE 2015 Batam
LOCATION:Swiss Belhotel Harbour Bay, Batam . Indonesia
DESCRIPTION;ENCODING=QUOTED-PRINTABLE:\n\nWELCOME TO 3rd Edition of INAMARINE 2015 Batam\n\n\nThe resounding succ
 ess of INAMARINE Batam 2014, attracted 112 exhibiting companies from 9 coun
 tries, 3,710 trade attendees from over 12 countries and occupied total area
  7,000 sqm gross, has further proved as the Indonesia’s largest trade show 
 for marine engineering & equipment, shipyards, shipbuilding and offshore. T
 he Expo has become the most influence marketplace to boost sales and gain e
 xposure as well as meeting with key decision makers and potential buyers in
  maritime industry.\nAs the most influential and comprehensive event, INAMA
 RINE Batam 2015 taking place from 1 – 3 October 2015 at the Swiss Belhotel 
 Harbour Bay, Batam – Indonesia will be expanded to be bigger and qualified 
 networking platform of the maritime industry to generate more qualified vis
 itors and international platform. INAMARINE Batam 2015 will be co-locating 
 with INAWELDING Batam 2015,  INATRONICS Batam 2015 (The 2nd Batam Internati
 onal Electronics, Components & Technology Exhibition 2015).  It will be not
 ably serve as one of the world’s most prospective one-stop exhibition for s
 uppliers and any shipyard, shipbuilding, offshore, port, welding, coating a
 nd other related industries.\n for more info\n
CONTACT:FREE MAP DISTRIBUTION
DTSTAMP:20260421T130257Z
DTSTART;TZID=Asia/Kuala_Lumpur:20151001T080000
DTEND;TZID=Asia/Kuala_Lumpur:20151003T170000
SEQUENCE:0
TRANSP:OPAQUE
END:VEVENT
END:VCALENDAR