BEGIN:VCALENDAR
VERSION:2.0
PRODID:-//jEvents 2.0 for Joomla//EN
CALSCALE:GREGORIAN
METHOD:PUBLISH
BEGIN:VTIMEZONE
TZID:Asia/Kuala_Lumpur
BEGIN:STANDARD
DTSTART:20141208T080000
RDATE:20380119T111407
TZOFFSETFROM:+0800
TZOFFSETTO:+0800
TZNAME:Asia/Kuala_Lumpur +08
END:STANDARD
END:VTIMEZONE
BEGIN:VEVENT
UID:e49876eff238b371f32d944699d44c6c
CATEGORIES:Oil & Gas
SUMMARY:South East Asia LNG Conference 2015 (Malaysia) 
LOCATION:Kuala Lumpur , Malaysia.
DESCRIPTION;ENCODING=QUOTED-PRINTABLE:\n\nLNG, FLNG, Liquefaction, Regasification, Terminals, Infrastructure, Gas
 , Shipping, Offshore, Technology, Project, Trading, South East Asia, Malays
 ia, Indonesia, Australia, Singapore, Thailand,Conference, EPC, PETRONAS, Pe
 rtamina, PTT \nLNG SEA is a 2-day gathering of international experts from a
 ll over the world to share case studies, discuss opportunities and deliver 
 solutions for the major challenges faced by the industry. It should be the 
 ideal platform for liquefied natural gas companies/ individuals to know the
  latest updates and explore partnership opportunities for staying ahead of 
 the game.\n
CONTACT:FREE MAP DISTRIBUTION
DTSTAMP:20260421T154630Z
DTSTART;TZID=Asia/Kuala_Lumpur:20151209T080000
DTEND;TZID=Asia/Kuala_Lumpur:20151210T170000
SEQUENCE:0
TRANSP:OPAQUE
END:VEVENT
END:VCALENDAR