BEGIN:VCALENDAR
VERSION:2.0
PRODID:-//jEvents 2.0 for Joomla//EN
CALSCALE:GREGORIAN
METHOD:PUBLISH
BEGIN:VTIMEZONE
TZID:Asia/Kuala_Lumpur
BEGIN:STANDARD
DTSTART:20141201T080000
RDATE:20380119T111407
TZOFFSETFROM:+0800
TZOFFSETTO:+0800
TZNAME:Asia/Kuala_Lumpur +08
END:STANDARD
END:VTIMEZONE
BEGIN:VEVENT
UID:28a5fa06cb8bec52eaa3a82286144d4e
CATEGORIES:Oil & Gas
SUMMARY:Decommissioning and Mature Wells Management Conference 2015
LOCATION:Kuala Lumpur, Malaysia
DESCRIPTION;ENCODING=QUOTED-PRINTABLE:\n\nThe Decommissioning and Mature Wells Management Conference is the only 
 meeting point to bring together the entire decommissioning and abandonment 
 community from across Asia Pacific. In its 7th year, the conference has a h
 istory of attracting leading experts from operators such as PETRONAS, PTTEP
 , Shell and Chevron for two days of intense networking and learning. This i
 s an unmissable meeting for operators which are looking to develop their de
 commissioning and abandonment strategies. \nThe meeting will cover the enti
 re process from planning, cost estimation and regulatory requirements, thro
 ugh to well abandonment and facilities removal and disposal. For more infor
 mation email Leonie at This email address is being protected from spambots.
  You need JavaScript enabled to view it.
 //
 \n
CONTACT:FREE MAP DISTRIBUTION
DTSTAMP:20260421T143444Z
DTSTART;TZID=Asia/Kuala_Lumpur:20151202T080000
DTEND;TZID=Asia/Kuala_Lumpur:20151204T170000
SEQUENCE:0
TRANSP:OPAQUE
END:VEVENT
END:VCALENDAR