BEGIN:VCALENDAR
VERSION:2.0
PRODID:-//jEvents 2.0 for Joomla//EN
CALSCALE:GREGORIAN
METHOD:PUBLISH
BEGIN:VTIMEZONE
TZID:Asia/Kuala_Lumpur
BEGIN:STANDARD
DTSTART:20140916T080000
RDATE:20380119T111407
TZOFFSETFROM:+0800
TZOFFSETTO:+0800
TZNAME:Asia/Kuala_Lumpur +08
END:STANDARD
END:VTIMEZONE
BEGIN:VEVENT
UID:064be8ed7b57215773ed98e7e58cbbe5
CATEGORIES:Oil & Gas
SUMMARY:Asia Oil & Gas Fiesta 2015 
LOCATION:Johor, Malaysia
DESCRIPTION;ENCODING=QUOTED-PRINTABLE:\n\nAsia Oil & Gas Fiesta 2015 was started with Industrial Roadshow Terengg
 anu, Malaysia in 2010. Since the debut year, the show has become a yearly e
 vent traveling to several states in Malaysia including Terengganu (Paka), P
 ahang (Kuantan), Sarawak (Bintulu and Miri), Johor (Pasir Gudang) and Penan
 g. The show has grown and explore to other countries including Indonesia (B
 anten-Cilegon, Karawang and Cikarang) and Vietnam (VungTau, Ho Chi Minh Cit
 y and DongNai).\nWith the success of the Oil & Gas Roadshow MALAYSIA at Pas
 ir Gudang, Johor in October 2013, the event will be bringing to higher prof
 ile and focus industries in Malaysia, Indonesia (Batam) and Singapore which
  are the advancing states for Oil & Gas, Petrochemical Processing, Offshore
 , Marine & Shipbuilding and Tank Storage industry development in Malaysia, 
 Indonesia (Batam), Singapore and Vietnam.\nThe objectives of the Asia OGF 2
 015 is to build the foundation and industry network of the oil & gas and re
 lated industries in Southern and Malaysia, Indonesia, Vietnam and Singapore
  while bringing new technologies manufactured and discovered with potential
  users in the Petrochemical, Oil & Gas, Offshore & Marine and related indus
 try endusers, EPC, contractors and engineering service companies...read mor
 e\n
CONTACT:FREE MAP DISTRIBUTION
DTSTAMP:20260421T130239Z
DTSTART;TZID=Asia/Kuala_Lumpur:20150917T080000
DTEND;TZID=Asia/Kuala_Lumpur:20150919T170000
SEQUENCE:0
TRANSP:OPAQUE
END:VEVENT
END:VCALENDAR