BEGIN:VCALENDAR
VERSION:2.0
PRODID:-//jEvents 2.0 for Joomla//EN
CALSCALE:GREGORIAN
METHOD:PUBLISH
BEGIN:VTIMEZONE
TZID:Asia/Kuala_Lumpur
BEGIN:STANDARD
DTSTART:20140928T070000
RDATE:20380119T111407
TZOFFSETFROM:+0800
TZOFFSETTO:+0800
TZNAME:Asia/Kuala_Lumpur +08
END:STANDARD
END:VTIMEZONE
BEGIN:VEVENT
UID:a36e3d3c8205937cac49bdf48004d8a7
CATEGORIES:Oil & Gas
SUMMARY:TANK STORAGE ASIA 2015
LOCATION:Marina Bay, Singapore
DESCRIPTION;ENCODING=QUOTED-PRINTABLE:\n\nTank Storage Asia 2015 - The heart of the Asian bulk liquid storage ind
 ustry\n\n\nTank Storage Asia brings the Asian bulk liquid storage industry 
 together, allowing leading manufacturers & suppliers to showcase their expe
 rt products and services to a captive audience of buyers. With investment p
 ouring in and demand continually on the rise, bulk liquid storage is an inc
 reasingly important infrastructure in Asia which has direct impact on regio
 nal trade.\nThe annual exhibition and conference attracts industry professi
 onals from oil, petrochemical, transport and logistics companies, all looki
 ng to connect directly with suppliers and manufacturers displaying innovati
 ve technology. The conference programme will also discuss industry trends a
 nd future plans for the region.\n
CONTACT:FREE MAP DISTRIBUTION
X-EXTRAINFO:http://www.tankstorageasia.com
DTSTAMP:20260421T143825Z
DTSTART;TZID=Asia/Kuala_Lumpur:20150929T070000
DTEND;TZID=Asia/Kuala_Lumpur:20150930T170000
SEQUENCE:0
TRANSP:OPAQUE
END:VEVENT
END:VCALENDAR