BEGIN:VCALENDAR
VERSION:2.0
PRODID:-//jEvents 2.0 for Joomla//EN
CALSCALE:GREGORIAN
METHOD:PUBLISH
BEGIN:VTIMEZONE
TZID:Asia/Kuala_Lumpur
BEGIN:STANDARD
DTSTART:20150328T080000
RDATE:20380119T111407
TZOFFSETFROM:+0800
TZOFFSETTO:+0800
TZNAME:Asia/Kuala_Lumpur +08
END:STANDARD
END:VTIMEZONE
BEGIN:VEVENT
UID:7f00c02ad5d17605b0f372a33b3cd972
CATEGORIES:Oil & Gas
SUMMARY:5th Annual East Africa Oil and Gas Summit 2016 
LOCATION:Hyatt Regency Hotel – Dar es Salaam 
DESCRIPTION;ENCODING=QUOTED-PRINTABLE:\n\nThe 5th East Africa Oil & Gas Summit will consider the industry’s most 
 topical issues through extensive presentations and in-depth panel discussio
 ns, examining areas such as the region’s latest licensing rounds, offshore 
 security, transparency and accountability, operating efficiency and local c
 ontent. The two day event also comprises a two day exhibition where the wor
 ld’s leading companies meet to engage their key audience and showcase the l
 atest in cutting-edge technology, together with extensive networking opport
 unities for the sector’s leading players to establish valuable business con
 nections with government representatives, local and international operators
 , and solutions and technology providers.\n
X-EXTRAINFO:Website: www.eastafricaogs.com\nEvent Hash tags: #EAOGS\nContact email: Thi
 s email address is being protected from spambots. You need JavaScript enabl
 ed to view it.
 //
 \nTelephone: +44207 065 5529\n
DTSTAMP:20260421T112930Z
DTSTART;TZID=Asia/Kuala_Lumpur:20160328T080000
DTEND;TZID=Asia/Kuala_Lumpur:20160329T170000
SEQUENCE:0
TRANSP:OPAQUE
END:VEVENT
END:VCALENDAR