BEGIN:VCALENDAR
VERSION:2.0
PRODID:-//jEvents 2.0 for Joomla//EN
CALSCALE:GREGORIAN
METHOD:PUBLISH
BEGIN:VTIMEZONE
TZID:Asia/Kuala_Lumpur
BEGIN:STANDARD
DTSTART:20150221T080000
RDATE:20380119T111407
TZOFFSETFROM:+0800
TZOFFSETTO:+0800
TZNAME:Asia/Kuala_Lumpur +08
END:STANDARD
END:VTIMEZONE
BEGIN:VEVENT
UID:7309717691598086ce9f2f3bf71af222
CATEGORIES:Oil & Gas
SUMMARY:2nd Annual Kazakhstan Oil and Gas Summit 2016
LOCATION:Rixos Hotel – Almaty
DESCRIPTION;ENCODING=QUOTED-PRINTABLE:\n\nThe Kazakhstan Oil & Gas Summit 2016 in Almaty is must attend event for
  the year, where key stakeholders gather to discuss the latest industry upd
 ates, network with other OG experts and map out the future prospects for th
 e region’s upstream, midstream and downstream industries. Our comprehensive
  two day agenda will give you first hand insight on best practice for doing
  business in Kazakhstan, the latest developments & challenges in E&P projec
 ts, technology advancements, policy & regulation, HSE, infrastructure, refi
 neries, transportation & logistics and much more.\n
X-EXTRAINFO:Website: www.kazakhstanogs.com\nEvent Hash tags: #KOGS\nContact email: This
  email address is being protected from spambots. You need JavaScript enable
 d to view it.
 //
 \nTelephone: +44207 065 5529\n
DTSTAMP:20260421T113218Z
DTSTART;TZID=Asia/Kuala_Lumpur:20160222T080000
DTEND;TZID=Asia/Kuala_Lumpur:20160223T170000
SEQUENCE:0
TRANSP:OPAQUE
END:VEVENT
END:VCALENDAR