BEGIN:VCALENDAR
VERSION:2.0
PRODID:-//jEvents 2.0 for Joomla//EN
CALSCALE:GREGORIAN
METHOD:PUBLISH
BEGIN:VTIMEZONE
TZID:Asia/Kuala_Lumpur
BEGIN:STANDARD
DTSTART:20150127T080000
RDATE:20380119T111407
TZOFFSETFROM:+0800
TZOFFSETTO:+0800
TZNAME:Asia/Kuala_Lumpur +08
END:STANDARD
END:VTIMEZONE
BEGIN:VEVENT
UID:f5cf31c12b93b229103828cbb5861ebb
CATEGORIES:Oil & Gas
SUMMARY:6th Myanmar Oil and Gas Exhibition 2016
LOCATION:Sedona Hotel - Yangon
DESCRIPTION;ENCODING=QUOTED-PRINTABLE:\n\nMyanmar’s oil and gas boom continues to be the hottest ticket in the gl
 obal oil and gas industry. The Myanmar Oil and Gas Exhibition is the best f
 orum for all oil and gas professionals either currently working in Myanmar 
 or who are new to the country. The event will bring together thousands of a
 ttendees involved in Myanmar’s Oil and Gas Industry: The key decision maker
 s from government, international oil and gas companies and global service p
 roviders will be in attendance for two days of conference presentations, ne
 tworking and workshops covering all aspects crucial to the development of M
 yanmar’s oil and gas sector. Previous speakers include Government and MOGE 
 representatives, leading IOCs and the experts who have the knowledge and in
 sight on how to run successful operations in Myanmar. Attendees will hear f
 rom the Government leaders and experts, and will leave the event with the k
 nowledge and contacts to guarantee success in Myanmar.\n
CONTACT: FREE MAP DISTRIBUTION
X-EXTRAINFO:Website: www.myanmaroilexhibition.com\nContact email: This email address is
  being protected from spambots. You need JavaScript enabled to view it.
 //
 
 \nTelephone: +44207 065 5529\n\n
DTSTAMP:20260421T113204Z
DTSTART;TZID=Asia/Kuala_Lumpur:20160128T080000
DTEND;TZID=Asia/Kuala_Lumpur:20160129T170000
SEQUENCE:0
TRANSP:OPAQUE
END:VEVENT
END:VCALENDAR