BEGIN:VCALENDAR
VERSION:2.0
PRODID:-//jEvents 2.0 for Joomla//EN
CALSCALE:GREGORIAN
METHOD:PUBLISH
BEGIN:VTIMEZONE
TZID:Asia/Kuala_Lumpur
BEGIN:STANDARD
DTSTART:20140927T080000
RDATE:20380119T111407
TZOFFSETFROM:+0800
TZOFFSETTO:+0800
TZNAME:Asia/Kuala_Lumpur +08
END:STANDARD
END:VTIMEZONE
BEGIN:VEVENT
UID:4f0744e4e04b26fa97bbb42530ebbe51
CATEGORIES:Oil & Gas
SUMMARY:3rs Annual Azerbaijan & Caspian Sea Oil and Gas Week 2015
LOCATION:Four Seasons Hotel – Baku
DESCRIPTION;ENCODING=QUOTED-PRINTABLE:\n\nThe 3rd Annual Azerbaijan & Caspian Sea Oil and Gas Week 2015 is the es
 sential forum for assessing the latest developments, technologies and futur
 e projects in the region’s booming oil and gas industry. Hear from an array
  of international oil and gas companies on the exploration and production o
 utlook, developments of pipeline projects and new technologies in a region 
 vital to Europe and the World’s energy supply. The event includes a 2-day c
 onference, post conference training workshops and an exhibition where you w
 ill see the latest innovations and products. The event also hosts an exclus
 ive networking reception where you can engage with the Caspian’s key decisi
 on makers in the comfort of the beautiful Four Seasons Hotel, Baku\n
X-EXTRAINFO:Website: www.Azerbaijansummit.com\nContact email: This email address is bei
 ng protected from spambots. You need JavaScript enabled to view it.
 //
 \n
 Event Hash Tags: #AZOGS\nTelephone: +44207 065 5529\n\n
DTSTAMP:20260421T130301Z
DTSTART;TZID=Asia/Kuala_Lumpur:20150928T080000
DTEND;TZID=Asia/Kuala_Lumpur:20150930T170000
SEQUENCE:0
TRANSP:OPAQUE
END:VEVENT
END:VCALENDAR