BEGIN:VCALENDAR
VERSION:2.0
PRODID:-//jEvents 2.0 for Joomla//EN
CALSCALE:GREGORIAN
METHOD:PUBLISH
BEGIN:VTIMEZONE
TZID:Asia/Kuala_Lumpur
BEGIN:STANDARD
DTSTART:20140907T080000
RDATE:20380119T111407
TZOFFSETFROM:+0800
TZOFFSETTO:+0800
TZNAME:Asia/Kuala_Lumpur +08
END:STANDARD
END:VTIMEZONE
BEGIN:VEVENT
UID:d2e19af23b8caeec89970f97f2e9c87b
CATEGORIES:Oil & Gas
SUMMARY:Africa Oil and Gas Expo 2015
LOCATION:Convention Centre | Johannesburg
DESCRIPTION;ENCODING=QUOTED-PRINTABLE:\n\nThe Africa Oil & Gas EXPO 2015 provides you with the best platform for 
 marketing your products, increasing your profile and meeting new clients in
  Africa.\nBefore, during and after the event your company will be promoted 
 extensively to the African Oil and Gas Industry, greatly increasing your ex
 posure and helping you capitalize on the wealth of new investment potential
  in the region. \nDo Business! - Billions of Dollars are being pumped into 
 Africa’s Oil and Gas Value chain, making it the hottest region on the plane
 t for new investment opportunities. The Africa Oil and Gas EXPO is the regi
 on’s leading event bringing Africa’s oil opportunities to you.\n
X-EXTRAINFO:Website: www.africaoilexpo.com\nContact email: This email address is being 
 protected from spambots. You need JavaScript enabled to view it.
 //
 \nTel
 ephone: +44207 065 5529\n
DTSTAMP:20260421T143140Z
DTSTART;TZID=Asia/Kuala_Lumpur:20150908T080000
DTEND;TZID=Asia/Kuala_Lumpur:20150909T170000
SEQUENCE:0
TRANSP:OPAQUE
END:VEVENT
END:VCALENDAR