BEGIN:VCALENDAR
VERSION:2.0
PRODID:-//jEvents 2.0 for Joomla//EN
CALSCALE:GREGORIAN
METHOD:PUBLISH
BEGIN:VTIMEZONE
TZID:Asia/Kuala_Lumpur
BEGIN:STANDARD
DTSTART:20130525T000000
RDATE:20380119T111407
TZOFFSETFROM:+0800
TZOFFSETTO:+0800
TZNAME:Asia/Kuala_Lumpur +08
END:STANDARD
END:VTIMEZONE
BEGIN:VEVENT
UID:8b4de4c4bbbeedaf35d6e82dcd174f41
CATEGORIES:Oil & Gas
SUMMARY:SOGCE 2014
LOCATION:Sutera Harbour Resort, Kota Kinabalu
DESCRIPTION;ENCODING=QUOTED-PRINTABLE:                      Opportunities and Growth                       \n\nTh
 is conference invites representatives of oil companies and supply industrie
 s to review and discuss strategies and potential for intensified developmen
 t going forward in Sabah. There will be a mixture of speeches, and workshop
 s. In line with the theme of the Conference, the programme will cover Prosp
 ects and Challenges and Business Opportunities in the Sabah Oil and Gas Ind
 ustry, Local Views, General Topics on Learning and Development, and Global 
 Issues in Exploration and Production as well as New Technology and Best Pra
 ctices in the Oil and Gas Industry.The Exhibition will showcase internation
 al and local exhibitors displaying the latest equipment, technology & solut
 ions to demonstrate competitive advantages and competencies.\n
DTSTAMP:20260421T143042Z
DTSTART;TZID=Asia/Kuala_Lumpur;VALUE=DATE:20140526
DTEND;TZID=Asia/Kuala_Lumpur;VALUE=DATE:20140528
SEQUENCE:0
TRANSP:OPAQUE
END:VEVENT
END:VCALENDAR