BEGIN:VCALENDAR
VERSION:2.0
PRODID:-//jEvents 2.0 for Joomla//EN
CALSCALE:GREGORIAN
METHOD:PUBLISH
BEGIN:VTIMEZONE
TZID:Asia/Kuala_Lumpur
BEGIN:STANDARD
DTSTART:20141129T080000
RDATE:20380119T111407
TZOFFSETFROM:+0800
TZOFFSETTO:+0800
TZNAME:Asia/Kuala_Lumpur +08
END:STANDARD
END:VTIMEZONE
BEGIN:VEVENT
UID:1183a2548469f093bd76cb43ec50c77f
CATEGORIES:Oil & Gas
SUMMARY:World Fiscal Systems for Oil & Gas, Special Focus on Mexico’s Hydrocarbon Revenue Law
LOCATION:Mexico City, Mexico
DESCRIPTION;ENCODING=QUOTED-PRINTABLE:\n\n\n\n\nThis interactive, computer-based training course provides partici
 pants with an intimate knowledge of petroleum upstream fiscal systems with 
 a special, in-depth focus on Mexico’s new Hydrocarbon Revenue Law. Topics w
 ill include royalties, production sharing, concessions, joint venture agree
 ments, service agreements, administration of fiscal systems as well as stan
 dalone vs. incremental analysis in Mexico and case studies from around the 
 world. Run for over 35 years, this course continues to equip participants w
 ith the knowledge to negotiating better contracts and concessions and ident
 ifying the optimal investment opportunities.... Find out more\n\n
CONTACT:Courses 
DTSTAMP:20260421T143015Z
DTSTART;TZID=Asia/Kuala_Lumpur:20151130T080000
DTEND;TZID=Asia/Kuala_Lumpur:20151204T170000
SEQUENCE:0
TRANSP:OPAQUE
END:VEVENT
END:VCALENDAR