BEGIN:VCALENDAR
VERSION:2.0
PRODID:-//jEvents 2.0 for Joomla//EN
CALSCALE:GREGORIAN
METHOD:PUBLISH
BEGIN:VTIMEZONE
TZID:Asia/Kuala_Lumpur
BEGIN:STANDARD
DTSTART:20141115T080000
RDATE:20380119T111407
TZOFFSETFROM:+0800
TZOFFSETTO:+0800
TZNAME:Asia/Kuala_Lumpur +08
END:STANDARD
END:VTIMEZONE
BEGIN:VEVENT
UID:eb04fdaf98098196d73079c39d73ce47
CATEGORIES:Oil & Gas
SUMMARY:Project Management in Oil & Gas 
LOCATION:London, UK
DESCRIPTION;ENCODING=QUOTED-PRINTABLE:\n\n\n\n\nThe course is specifically designed for those working in the oil 
 and gas industry and is aligned with the PMI Body of Knowledge (PMBOK). It 
 provides an in-depth understanding and knowledge of the entire project mana
 gement life cycle, tools, techniques, knowledge areas and processes require
 d to ensure successful project execution.\nThis practical training programm
 e utilises a unique interactive simulation exercise of a complete oil & gas
  project throughout the duration of the course. Learning is supported throu
 ghout with the use of industry specific case studies and e-Learning support
 ... Find out more\n\n
CONTACT:Courses 
DTSTAMP:20260421T143219Z
DTSTART;TZID=Asia/Kuala_Lumpur:20151116T080000
DTEND;TZID=Asia/Kuala_Lumpur:20151120T170000
SEQUENCE:0
TRANSP:OPAQUE
END:VEVENT
END:VCALENDAR