BEGIN:VCALENDAR
VERSION:2.0
PRODID:-//jEvents 2.0 for Joomla//EN
CALSCALE:GREGORIAN
METHOD:PUBLISH
BEGIN:VTIMEZONE
TZID:Asia/Kuala_Lumpur
BEGIN:STANDARD
DTSTART:20141115T080000
RDATE:20380119T111407
TZOFFSETFROM:+0800
TZOFFSETTO:+0800
TZNAME:Asia/Kuala_Lumpur +08
END:STANDARD
END:VTIMEZONE
BEGIN:VEVENT
UID:28995fd600ea44258ca857ceaad1e6dc
CATEGORIES:Oil & Gas
SUMMARY:LNG Mini MBA in Project Development
LOCATION:Dubai, UAE
DESCRIPTION;ENCODING=QUOTED-PRINTABLE:\n\n\n\n\nCWC School for Energy has designed this interactive training prog
 ramme to enhance the key competencies and skills required across all aspect
 s of commercial LNG project development.\nUsing a simplified economic model
  to simulate the development of real LNG projects and understand the key va
 lue drivers, and a project development handbook, this programme ensures you
  can put theory into practice and return to work with enhanced skills and a
  useful toolkit. This is a tablet based programme and the tablet is include
 d... Find out more\n\n
CONTACT:Courses 
DTSTAMP:20260421T143824Z
DTSTART;TZID=Asia/Kuala_Lumpur:20151116T080000
DTEND;TZID=Asia/Kuala_Lumpur:20151125T170000
SEQUENCE:0
TRANSP:OPAQUE
END:VEVENT
END:VCALENDAR