BEGIN:VCALENDAR
VERSION:2.0
PRODID:-//jEvents 2.0 for Joomla//EN
CALSCALE:GREGORIAN
METHOD:PUBLISH
BEGIN:VTIMEZONE
TZID:Asia/Kuala_Lumpur
BEGIN:STANDARD
DTSTART:20141108T080000
RDATE:20380119T111407
TZOFFSETFROM:+0800
TZOFFSETTO:+0800
TZNAME:Asia/Kuala_Lumpur +08
END:STANDARD
END:VTIMEZONE
BEGIN:VEVENT
UID:f7788b94cf87c007489c7c7f1f0af7ce
CATEGORIES:Oil & Gas
SUMMARY:International Petroleum Joint 
LOCATION:Rio de Janeiro, Brazil
DESCRIPTION;ENCODING=QUOTED-PRINTABLE:\n\n\n\n\nCWC School for Energy developed this course in order to develop y
 our knowledge and skills on the legal, commercial and contractual aspects o
 f Joint Ventures in order to better structure, draft, negotiate and manage 
 both your positions and risk within them. Due to the extreme complexity of 
 JVs, participants involved in establishing and operating them must know how
  to manage relationships between partners and minimise the risks to ensure 
 the commercial viability of the project and protect the interests of the co
 mpany.... Find out more\n\n
CONTACT:Courses 
DTSTAMP:20260421T143723Z
DTSTART;TZID=Asia/Kuala_Lumpur:20151109T080000
DTEND;TZID=Asia/Kuala_Lumpur:20151111T170000
SEQUENCE:0
TRANSP:OPAQUE
END:VEVENT
END:VCALENDAR