BEGIN:VCALENDAR
VERSION:2.0
PRODID:-//jEvents 2.0 for Joomla//EN
CALSCALE:GREGORIAN
METHOD:PUBLISH
BEGIN:VTIMEZONE
TZID:Asia/Kuala_Lumpur
BEGIN:STANDARD
DTSTART:20141115T080000
RDATE:20380119T111407
TZOFFSETFROM:+0800
TZOFFSETTO:+0800
TZNAME:Asia/Kuala_Lumpur +08
END:STANDARD
END:VTIMEZONE
BEGIN:VEVENT
UID:8bc928ce5872fa90d9301c13b3b657ab
CATEGORIES:Oil & Gas
SUMMARY:World Legal Systems & Contracts for Oil & Gas
LOCATION:London, UK
DESCRIPTION;ENCODING=QUOTED-PRINTABLE:\n\n\n\n\nThis intensive course will provide participants with a comprehens
 ive insight of all the oil and gas issues involved in the global upstream p
 etroleum business. Participants will analyse the contract structures that H
 ost Governments use to grant petroleum rights and govern activities. Furthe
 rmore, you will also understand how these critical contract differences wil
 l affect your business opportunities around the world. Over the duration of
  the course, a unique practical exercise will take place that will stimulat
 e the development of a new petroleum regime.... Find out more\n\n
CONTACT:Courses 
DTSTAMP:20260421T143101Z
DTSTART;TZID=Asia/Kuala_Lumpur:20151116T080000
DTEND;TZID=Asia/Kuala_Lumpur:20151119T170000
SEQUENCE:0
TRANSP:OPAQUE
END:VEVENT
END:VCALENDAR