BEGIN:VCALENDAR
VERSION:2.0
PRODID:-//jEvents 2.0 for Joomla//EN
CALSCALE:GREGORIAN
METHOD:PUBLISH
BEGIN:VTIMEZONE
TZID:Asia/Kuala_Lumpur
BEGIN:STANDARD
DTSTART:20141014T080000
RDATE:20380119T111407
TZOFFSETFROM:+0800
TZOFFSETTO:+0800
TZNAME:Asia/Kuala_Lumpur +08
END:STANDARD
END:VTIMEZONE
BEGIN:VEVENT
UID:3e256927f0e0785c7957889a56713e0f
CATEGORIES:Oil & Gas
SUMMARY:World Fiscal Systems for Oil & Gas 
LOCATION:Dubai, UAE
DESCRIPTION;ENCODING=QUOTED-PRINTABLE:\n\nRun for over 35 years, this course provides participants with an intima
 te knowledge of petroleum upstream fiscal systems including royalties, prod
 uction sharing contracts, concessions, joint ventures and service agreement
 s. An in-depth assessment will be conducted on the administration of fiscal
  systems as well as standalone vs. incremental analysis. Furthermore, the c
 ourse is interactive and will help you to understand how various economic f
 actors can impact a fiscal system from both the government and corporate po
 ints of view.... Find out more\n\n
CONTACT:Courses 
DTSTAMP:20260421T161846Z
DTSTART;TZID=Asia/Kuala_Lumpur:20151015T080000
DTEND;TZID=Asia/Kuala_Lumpur:20151019T170000
SEQUENCE:0
TRANSP:OPAQUE
END:VEVENT
END:VCALENDAR