BEGIN:VCALENDAR
VERSION:2.0
PRODID:-//jEvents 2.0 for Joomla//EN
CALSCALE:GREGORIAN
METHOD:PUBLISH
BEGIN:VTIMEZONE
TZID:Asia/Kuala_Lumpur
BEGIN:STANDARD
DTSTART:20141025T080000
RDATE:20380119T111407
TZOFFSETFROM:+0800
TZOFFSETTO:+0800
TZNAME:Asia/Kuala_Lumpur +08
END:STANDARD
END:VTIMEZONE
BEGIN:VEVENT
UID:2b9da3a408e7d36eb6a384555a089db1
CATEGORIES:Oil & Gas
SUMMARY:Negotiating Oil & Gas Contracts - Advanced Master Class
LOCATION:London, UK
DESCRIPTION;ENCODING=QUOTED-PRINTABLE:\n\n\n\n\nThis course is designed by CWC School for Energy to help particip
 ants become accomplished negotiators in oil and gas. The programme shares t
 he approaches and tools used by professional negotiators. The knowledge gai
 ned will assist participants in negotiating better contracts and concession
 s, identifying the best investment opportunities and gaining practical, up-
 to-date experience from “real-life” examples.... Find out more\n\n
CONTACT:Courses 
DTSTAMP:20260421T162051Z
DTSTART;TZID=Asia/Kuala_Lumpur:20151026T080000
DTEND;TZID=Asia/Kuala_Lumpur:20151030T170000
SEQUENCE:0
TRANSP:OPAQUE
END:VEVENT
END:VCALENDAR